BEGIN:VCALENDAR
VERSION:2.0
PRODID:-//Tukios.com/
BEGIN:VEVENT
UID:fb013aa3-fc0a-401f-80bd-3daaa7716ad9@www.richesonfh.com
DTSTAMP:20260422T040323Z
DTSTART:20260425T170000Z
DTEND:20260425T180000Z
SUMMARY:Funeral Service
DESCRIPTION:
URL:https://www.richesonfh.com/obituaries/stanton-brown
LOCATION: 2184 Vadalabene Drive  Maryville IL 62062
GEO:38.734292;-89.9472474
END:VEVENT
END:VCALENDAR