BEGIN:VCALENDAR
VERSION:2.0
PRODID:-//Tukios.com/
BEGIN:VEVENT
UID:c9277b4f-bbee-4f3c-8499-9344cda77c87@www.richesonfh.com
DTSTAMP:20260422T040221Z
DTSTART:20260425T150000Z
DTEND:20260425T170000Z
SUMMARY:Visitation
DESCRIPTION:
URL:https://www.richesonfh.com/obituaries/stanton-brown
LOCATION: 2184 Vadalabene Drive  Maryville IL 62062
GEO:38.734292;-89.9472474
END:VEVENT
END:VCALENDAR